BEGIN:VCALENDAR
VERSION:2.0
PRODID:-//Covalent Logic//Content Management System//EN
BEGIN:VEVENT
UID:1777021889766.COVALENTLOGIC.COM
DTSTART:20231013T220000Z
DTEND:20231014T203000Z
SUMMARY:Hunter Ed Class -Vernon
LOCATION:Evans School, 18829 Hwy. 111, Evans, LA, 70639
DESCRIPTION:
PRIORITY:5
END:VEVENT
END:VCALENDAR