BEGIN:VCALENDAR
VERSION:2.0
PRODID:-//Covalent Logic//Content Management System//EN
BEGIN:VEVENT
UID:1776903147776.COVALENTLOGIC.COM
DTSTART:20260501T230000Z
DTEND:20260502T200000Z
SUMMARY:Hunter Ed Class - Iberville
LOCATION:Iberville Parish Range Facility, 26850 HWY 1 SOUTH, Plaquemine, LA, 70764
DESCRIPTION:
PRIORITY:5
END:VEVENT
END:VCALENDAR