BEGIN:VCALENDAR
VERSION:2.0
PRODID:-//Covalent Logic//Content Management System//EN
BEGIN:VEVENT
UID:1776855992312.COVALENTLOGIC.COM
DTSTART:20260508T220000Z
DTEND:20260509T203000Z
SUMMARY:Hunter Ed Class - Cameron
LOCATION:CAMERON PARISH SO SUBSTATION- SWEETLAKE, 2746 HIGHWAY 384, BELL CITY, LA, 70630
DESCRIPTION:
PRIORITY:5
END:VEVENT
END:VCALENDAR