BEGIN:VCALENDAR
VERSION:2.0
PRODID:-//Covalent Logic//Content Management System//EN
BEGIN:VEVENT
UID:1620992722734.COVALENTLOGIC.COM
DTSTART:20210612T130000Z
DTEND:20210612T213000Z
SUMMARY:Boater Education Class - Webster Parish
LOCATION:LDWF REGION 1 OFFICE, 9961 Highway 80, Minden, LA 71055
DESCRIPTION:
PRIORITY:5
END:VEVENT
END:VCALENDAR