BEGIN:VCALENDAR
VERSION:2.0
PRODID:-//Covalent Logic//Content Management System//EN
BEGIN:VEVENT
UID:1620992724850.COVALENTLOGIC.COM
DTSTART:20210612T130000Z
DTEND:20210612T213000Z
SUMMARY:Boater Education Class - Lafourche Parish
LOCATION:ST. JOHN VOLUNTEER FIRE DEPARTMENT (THIBODAUX), 2429 Parish Rd, Thibodaux, LA 70301
DESCRIPTION:
PRIORITY:5
END:VEVENT
END:VCALENDAR