BEGIN:VCALENDAR
VERSION:2.0
PRODID:-//Covalent Logic//Content Management System//EN
BEGIN:VEVENT
UID:1620992742729.COVALENTLOGIC.COM
DTSTART:20210619T140000Z
DTEND:20210619T200000Z
SUMMARY:Boater Education Class - Ouachita Parish
LOCATION:LDWF MONROE OFFICE, 368 CenturyLink Dr, Monroe, LA 71203
DESCRIPTION:
PRIORITY:5
END:VEVENT
END:VCALENDAR