BEGIN:VCALENDAR
VERSION:2.0
PRODID:-//Covalent Logic//Content Management System//EN
BEGIN:VEVENT
UID:1620738623141.COVALENTLOGIC.COM
DTSTART:20210518T220000Z
DTEND:20210521T000000Z
SUMMARY:Hunter Education Class - St. Landry Parish
LOCATION:ST. JOHN BERCHMAN'S CHURCH HALL, 576 Main St, Sunset, LA 70584
DESCRIPTION:
PRIORITY:5
END:VEVENT
END:VCALENDAR