BEGIN:VCALENDAR
VERSION:2.0
PRODID:-//Covalent Logic//Content Management System//EN
BEGIN:VEVENT
UID:1622685329626.COVALENTLOGIC.COM
DTSTART:20210731T130000Z
DTEND:20210731T230000Z
SUMMARY:Boater Education Class - Iberville Parish
LOCATION:IBERVILLE PARISH COUNCIL ON AGING BUILDING, 58105 Court St., Plaquemine, LA 70764
DESCRIPTION:
PRIORITY:5
END:VEVENT
END:VCALENDAR