BEGIN:VCALENDAR
VERSION:2.0
PRODID:-//Covalent Logic//Content Management System//EN
BEGIN:VEVENT
UID:1622685332540.COVALENTLOGIC.COM
DTSTART:20210731T140000Z
DTEND:20210731T220000Z
SUMMARY:Boater Education Class - Jefferson Parish
LOCATION:JEFFERSON PARISH RIVER RIDGE LIBRARY, 8825 Jefferson Hwy, Jefferson, LA 70123
DESCRIPTION:
PRIORITY:5
END:VEVENT
END:VCALENDAR