BEGIN:VCALENDAR
VERSION:2.0
PRODID:-//Covalent Logic//Content Management System//EN
BEGIN:VEVENT
UID:1776943955773.COVALENTLOGIC.COM
DTSTART:20221105T130000Z
DTEND:20221105T210000Z
SUMMARY:Boater Education Class - Lafayette Parish
LOCATION:Department of Wildlife and Fisheries - Lafayette, 200 Dulles Drive, Lafayette, LA, 70506
DESCRIPTION:
PRIORITY:5
END:VEVENT
END:VCALENDAR